BEGIN:VCALENDAR
VERSION:2.0
PRODID:-//Pittsfield Public Library - ECPv6.15.20//NONSGML v1.0//EN
CALSCALE:GREGORIAN
METHOD:PUBLISH
X-ORIGINAL-URL:http://www.pittsfield.lib.me.us
X-WR-CALDESC:Events for Pittsfield Public Library
REFRESH-INTERVAL;VALUE=DURATION:PT1H
X-Robots-Tag:noindex
X-PUBLISHED-TTL:PT1H
BEGIN:VTIMEZONE
TZID:UTC
BEGIN:STANDARD
TZOFFSETFROM:+0000
TZOFFSETTO:+0000
TZNAME:UTC
DTSTART:20230101T000000
END:STANDARD
END:VTIMEZONE
BEGIN:VEVENT
DTSTART;TZID=UTC:20241207T130000
DTEND;TZID=UTC:20241207T140000
DTSTAMP:20260419T193432
CREATED:20241202T205846Z
LAST-MODIFIED:20241202T205846Z
UID:1469-1733576400-1733580000@www.pittsfield.lib.me.us
SUMMARY:Jenga with Mr. Wes
DESCRIPTION:Mr. Wes has never been beaten at Jenga – could today be the day he’s toppled from his throne?  Come try your very steady hands against Mr. Wes in this fun game of precision and nerve!
URL:http://www.pittsfield.lib.me.us/event/jenga-with-mr-wes/
LOCATION:Pittsfield Public Library\, 110 Library St\, Pittsfield\, ME\, 04967\, United States
CATEGORIES:Adult Events,Children's Events
END:VEVENT
BEGIN:VEVENT
DTSTART;TZID=UTC:20241209T103000
DTEND;TZID=UTC:20241209T113000
DTSTAMP:20260419T193432
CREATED:20241202T213417Z
LAST-MODIFIED:20241202T213417Z
UID:1471-1733740200-1733743800@www.pittsfield.lib.me.us
SUMMARY:Story Time Celebrates Curious George!
DESCRIPTION:Curious George and the Man in the Yellow Hat have managed to have some amazing adventures – what kinds of monkey business can you get up to?
URL:http://www.pittsfield.lib.me.us/event/story-time-celebrates-curious-george/
LOCATION:Pittsfield Public Library\, 110 Library St\, Pittsfield\, ME\, 04967\, United States
CATEGORIES:Children's Events
END:VEVENT
BEGIN:VEVENT
DTSTART;TZID=UTC:20241211T160000
DTEND;TZID=UTC:20241211T170000
DTSTAMP:20260419T193432
CREATED:20241202T213644Z
LAST-MODIFIED:20241202T213644Z
UID:1473-1733932800-1733936400@www.pittsfield.lib.me.us
SUMMARY:Miss Cassidy's Craft Corner Makes Button Tree Ornaments
DESCRIPTION:Come join Miss Cassidy and make button tree ornaments!  This craft is suitable for all ages\, and all are welcome!
URL:http://www.pittsfield.lib.me.us/event/miss-cassidys-craft-corner-makes-button-tree-ornaments/
LOCATION:Pittsfield Public Library\, 110 Library St\, Pittsfield\, ME\, 04967\, United States
CATEGORIES:Adult Events,Children's Events
END:VEVENT
BEGIN:VEVENT
DTSTART;TZID=UTC:20241211T180000
DTEND;TZID=UTC:20241211T200000
DTSTAMP:20260419T193432
CREATED:20241202T213843Z
LAST-MODIFIED:20241202T213947Z
UID:1475-1733940000-1733947200@www.pittsfield.lib.me.us
SUMMARY:Board Game Night (18+): Anything Goes!
DESCRIPTION:Come join us for a night of favorite European-style board games! I’m sure that folks will bring a little bit of everything – Librarian Jill is sure to bring Wingspan and Calico – why not bring your favorite\, too?\n\nThe library sponsors this group every Wednesday evening. It is librarian led and intended for adults 18+. We welcome players new and old – bring a favorite game to teach or come ready to learn!\n\nNow meeting in the Warren Community Room from 6pm to 8pm.
URL:http://www.pittsfield.lib.me.us/event/board-game-night-18-anything-goes-2/
LOCATION:Pittsfield Public Library\, 110 Library St\, Pittsfield\, ME\, 04967\, United States
CATEGORIES:Adult Events
END:VEVENT
BEGIN:VEVENT
DTSTART;TZID=UTC:20241212T140000
DTEND;TZID=UTC:20241212T170000
DTSTAMP:20260419T193432
CREATED:20241202T214602Z
LAST-MODIFIED:20241202T214615Z
UID:1477-1734012000-1734022800@www.pittsfield.lib.me.us
SUMMARY:Friends of the Library Annual Christmas Open House
DESCRIPTION:Come join the Friends of the Pittsfield Library for their annual Christmas Open House.  Local harpist Isleen Halvorsen will serenade the upper floor with Christmas music\, while the kids can make crafts with Mr. Wes downstairs.  Light refreshments including home baked cookies will be served\, and good cheer will abound!  We’ll be selling raffle tickets until the end of the event\, and the winners will be drawn on Friday\, December 13.
URL:http://www.pittsfield.lib.me.us/event/friends-of-the-library-annual-christmas-open-house/
LOCATION:Pittsfield Public Library\, 110 Library St\, Pittsfield\, ME\, 04967\, United States
CATEGORIES:Adult Events,Children's Events,Community Events
END:VEVENT
BEGIN:VEVENT
DTSTART;TZID=UTC:20241214T130000
DTEND;TZID=UTC:20241214T140000
DTSTAMP:20260419T193432
CREATED:20241202T214834Z
LAST-MODIFIED:20241202T214834Z
UID:1479-1734181200-1734184800@www.pittsfield.lib.me.us
SUMMARY:LEGO Club
DESCRIPTION:Join Miss Cassidy for fun with the library’s collection of LEGOs!  What will you build?  All ages are welcome.
URL:http://www.pittsfield.lib.me.us/event/lego-club/
LOCATION:Pittsfield Public Library\, 110 Library St\, Pittsfield\, ME\, 04967\, United States
CATEGORIES:Adult Events,Children's Events
END:VEVENT
BEGIN:VEVENT
DTSTART;TZID=UTC:20241216T103000
DTEND;TZID=UTC:20241216T113000
DTSTAMP:20260419T193432
CREATED:20241202T215439Z
LAST-MODIFIED:20241202T215439Z
UID:1480-1734345000-1734348600@www.pittsfield.lib.me.us
SUMMARY:Story Time Celebrates the Winter Solstice
DESCRIPTION:Come hear Mr. Wes share a great story about the winter solstice – and learn why the shortest day of the year in our part of the world…is the longest day of the year in Australia!  How can it be summer there when it is winter here?
URL:http://www.pittsfield.lib.me.us/event/story-time-celebrates-the-winter-solstice/
LOCATION:Pittsfield Public Library\, 110 Library St\, Pittsfield\, ME\, 04967\, United States
CATEGORIES:Children's Events
END:VEVENT
BEGIN:VEVENT
DTSTART;TZID=UTC:20241218T150000
DTEND;TZID=UTC:20241218T160000
DTSTAMP:20260419T193432
CREATED:20241202T220543Z
LAST-MODIFIED:20241202T220543Z
UID:1482-1734534000-1734537600@www.pittsfield.lib.me.us
SUMMARY:Culture Club Investigates Kwanzaa
DESCRIPTION:Every holiday had a beginning somewhere – Kwanzaa’s is just more recent than most.  Come learn about this important holiday celebrating the African roots shared by many Americans.  Learn about the Seven Principles symbolized by the kinara\, make crafts\, and go home with a free book.
URL:http://www.pittsfield.lib.me.us/event/culture-club-investigates-kwanzaa/
LOCATION:Pittsfield Public Library\, 110 Library St\, Pittsfield\, ME\, 04967\, United States
CATEGORIES:Children's Events
END:VEVENT
BEGIN:VEVENT
DTSTART;TZID=UTC:20241218T160000
DTEND;TZID=UTC:20241218T170000
DTSTAMP:20260419T193432
CREATED:20241202T220948Z
LAST-MODIFIED:20241202T220948Z
UID:1484-1734537600-1734541200@www.pittsfield.lib.me.us
SUMMARY:Make Snowflakes at Miss Cassidy's Craft Corner!
DESCRIPTION:Come make so many kinds of snowflakes for decorating!  Miss Cassidy will show you how to use chenille stems and beads to make lovely snowflakes to brighten up your holiday season.  All ages are welcome.
URL:http://www.pittsfield.lib.me.us/event/make-snowflakes-at-miss-cassidys-craft-corner/
LOCATION:Pittsfield Public Library\, 110 Library St\, Pittsfield\, ME\, 04967\, United States
CATEGORIES:Adult Events,Children's Events
END:VEVENT
BEGIN:VEVENT
DTSTART;TZID=UTC:20241218T180000
DTEND;TZID=UTC:20241218T200000
DTSTAMP:20260419T193432
CREATED:20241202T221338Z
LAST-MODIFIED:20241202T221338Z
UID:1487-1734544800-1734552000@www.pittsfield.lib.me.us
SUMMARY:Board Game Night (18+): Maps!
DESCRIPTION:Come join us for a night of favorite European-style board games! Tonight we’re featuring games centered on maps – Cartographers\, Carcassone\, Trekking the National Parks – come wander new worlds with us!\n\nThe library sponsors this group every Wednesday evening. It is librarian led and intended for adults 18+. We welcome players new and old – bring a favorite game to teach or come ready to learn!\n\nNow meeting in the Warren Community Room from 6pm to 8pm.
URL:http://www.pittsfield.lib.me.us/event/board-game-night-18-maps/
LOCATION:Pittsfield Public Library\, 110 Library St\, Pittsfield\, ME\, 04967\, United States
CATEGORIES:Adult Events
END:VEVENT
BEGIN:VEVENT
DTSTART;TZID=UTC:20241219T153000
DTEND;TZID=UTC:20241219T163000
DTSTAMP:20260419T193432
CREATED:20241202T221805Z
LAST-MODIFIED:20241202T221805Z
UID:1489-1734622200-1734625800@www.pittsfield.lib.me.us
SUMMARY:Fun STEM Time Observes National Regifting Day
DESCRIPTION:Reduce\, reuse\, recycle and yes – regift! Bring in an old toy in a brown paper bag if you would like to participate in a grab bag regifting event.
URL:http://www.pittsfield.lib.me.us/event/fun-stem-time-observes-national-regifting-day/
LOCATION:Pittsfield Public Library\, 110 Library St\, Pittsfield\, ME\, 04967\, United States
CATEGORIES:Children's Events
END:VEVENT
BEGIN:VEVENT
DTSTART;TZID=UTC:20241221T130000
DTEND;TZID=UTC:20241221T140000
DTSTAMP:20260419T193432
CREATED:20241202T222247Z
LAST-MODIFIED:20241202T222247Z
UID:1491-1734786000-1734789600@www.pittsfield.lib.me.us
SUMMARY:Learn How to Draw with Mr. Wes
DESCRIPTION:Come learn how to draw with Mr. Wes!  You’ve all seen his handiwork during his events – now learn his secrets!  All ages welcome.
URL:http://www.pittsfield.lib.me.us/event/learn-how-to-draw-with-mr-wes/
LOCATION:Pittsfield Public Library\, 110 Library St\, Pittsfield\, ME\, 04967\, United States
CATEGORIES:Adult Events,Children's Events
END:VEVENT
BEGIN:VEVENT
DTSTART;TZID=UTC:20241224T103000
DTEND;TZID=UTC:20241224T113000
DTSTAMP:20260419T193432
CREATED:20241202T222807Z
LAST-MODIFIED:20241202T222807Z
UID:1493-1735036200-1735039800@www.pittsfield.lib.me.us
SUMMARY:Story Time Shares Holiday Stories
DESCRIPTION:Mr. Wes will read stories about Christmas\, Hannukah\, Kwanzaa and more.  What other holidays happen in the winter?
URL:http://www.pittsfield.lib.me.us/event/story-time-shares-holiday-stories/
LOCATION:Pittsfield Public Library\, 110 Library St\, Pittsfield\, ME\, 04967\, United States
CATEGORIES:Children's Events
END:VEVENT
BEGIN:VEVENT
DTSTART;VALUE=DATE:20241225
DTEND;VALUE=DATE:20241226
DTSTAMP:20260419T193432
CREATED:20241203T155741Z
LAST-MODIFIED:20241203T155741Z
UID:1499-1735084800-1735171199@www.pittsfield.lib.me.us
SUMMARY:LIBRARY CLOSED for Christmas Holiday
DESCRIPTION:The library will be closed Wednesday\, December 25 in observance of the Christmas holiday.
URL:http://www.pittsfield.lib.me.us/event/library-closed-for-christmas-holiday/
LOCATION:Pittsfield Public Library\, 110 Library St\, Pittsfield\, ME\, 04967\, United States
CATEGORIES:Adult Events,Children's Events,Community Events
END:VEVENT
BEGIN:VEVENT
DTSTART;TZID=UTC:20241226T153000
DTEND;TZID=UTC:20241226T163000
DTSTAMP:20260419T193432
CREATED:20241203T160117Z
LAST-MODIFIED:20241203T160117Z
UID:1500-1735227000-1735230600@www.pittsfield.lib.me.us
SUMMARY:Fun STEM Time Measures Time!
DESCRIPTION:Join Mr. Wes in investigating time and how we measure it.  How do you measure a minute?  A day?  A year?  Does everyone measure time in the same way? Why are some holidays always on the same day every year\, while other holidays move around?  Come find out!
URL:http://www.pittsfield.lib.me.us/event/fun-stem-time-measures-time/
LOCATION:Pittsfield Public Library\, 110 Library St\, Pittsfield\, ME\, 04967\, United States
CATEGORIES:Children's Events
END:VEVENT
BEGIN:VEVENT
DTSTART;TZID=UTC:20241228T130000
DTEND;TZID=UTC:20241228T140000
DTSTAMP:20260419T193432
CREATED:20241203T163110Z
LAST-MODIFIED:20241203T163110Z
UID:1502-1735390800-1735394400@www.pittsfield.lib.me.us
SUMMARY:LEGO Club
DESCRIPTION:Join Mr. Wes in playing with the library’s LEGOs!  What will you build today?  All ages welcome.
URL:http://www.pittsfield.lib.me.us/event/lego-club-2/
LOCATION:Pittsfield Public Library\, 110 Library St\, Pittsfield\, ME\, 04967\, United States
CATEGORIES:Adult Events,Children's Events
END:VEVENT
BEGIN:VEVENT
DTSTART;TZID=UTC:20241230T103000
DTEND;TZID=UTC:20241230T113000
DTSTAMP:20260419T193432
CREATED:20241203T163343Z
LAST-MODIFIED:20241203T163343Z
UID:1503-1735554600-1735558200@www.pittsfield.lib.me.us
SUMMARY:Story Time celebrates the New Year!
DESCRIPTION:Join Mr. Wes in celebrating new beginnings and the start of the New Year.  What are you looking forward to this year?
URL:http://www.pittsfield.lib.me.us/event/story-time-celebrates-the-new-year/
LOCATION:Pittsfield Public Library\, 110 Library St\, Pittsfield\, ME\, 04967\, United States
CATEGORIES:Children's Events
END:VEVENT
BEGIN:VEVENT
DTSTART;TZID=UTC:20250102T153000
DTEND;TZID=UTC:20250102T163000
DTSTAMP:20260419T193432
CREATED:20250102T175835Z
LAST-MODIFIED:20250102T175835Z
UID:1511-1735831800-1735835400@www.pittsfield.lib.me.us
SUMMARY:Fun STEM Time Investigates Time!
DESCRIPTION:Fun STEM Time measures time! How do you measure a second\, a minute\, or an hour?  What about a year?  What if you don’t have a clock or calendar?
URL:http://www.pittsfield.lib.me.us/event/fun-stem-time-investigates-time/
LOCATION:Pittsfield Public Library\, 110 Library St\, Pittsfield\, ME\, 04967\, United States
CATEGORIES:Children's Events
END:VEVENT
BEGIN:VEVENT
DTSTART;TZID=UTC:20250104T130000
DTEND;TZID=UTC:20250104T140000
DTSTAMP:20260419T193432
CREATED:20250102T180356Z
LAST-MODIFIED:20250103T155431Z
UID:1513-1735995600-1735999200@www.pittsfield.lib.me.us
SUMMARY:Do a Puzzle with Mr. Wes! - CANCELLED
DESCRIPTION:Mr. Wes unfortunately won’t be able to hold this event\, but come visit with Ms. Cassidy for other fun at the library! \nCome join Mr. Wes for a puzzling time this afternoon!  All ages welcome.
URL:http://www.pittsfield.lib.me.us/event/do-a-puzzle-with-mr-wes/
LOCATION:Pittsfield Public Library\, 110 Library St\, Pittsfield\, ME\, 04967\, United States
CATEGORIES:Adult Events,Children's Events,Community Events
END:VEVENT
BEGIN:VEVENT
DTSTART;TZID=UTC:20250106T103000
DTEND;TZID=UTC:20250106T113000
DTSTAMP:20260419T193432
CREATED:20250102T181110Z
LAST-MODIFIED:20250102T181110Z
UID:1515-1736159400-1736163000@www.pittsfield.lib.me.us
SUMMARY:Story Time Celebrates Cuddle Up Day!
DESCRIPTION:Celebrate Cuddle Up Day with Story Time! Feel free to bring in a stuffie to snuggle with as you enjoy songs\, stories and crafts!
URL:http://www.pittsfield.lib.me.us/event/story-time-celebrates-cuddle-up-day/
LOCATION:Pittsfield Public Library\, 110 Library St\, Pittsfield\, ME\, 04967\, United States
CATEGORIES:Children's Events
END:VEVENT
BEGIN:VEVENT
DTSTART;TZID=UTC:20250107T133000
DTEND;TZID=UTC:20250107T153000
DTSTAMP:20260419T193432
CREATED:20250102T182008Z
LAST-MODIFIED:20250102T182008Z
UID:1517-1736256600-1736263800@www.pittsfield.lib.me.us
SUMMARY:Tech Tuesday!  Get Help with Your Digital Problems
DESCRIPTION:Bring all your tech related questions in to Scarlett\, our National Digital Equity Center Navigator! Have a question about your phone? Something on the internet? Looking for an inexpensive way to purchase a computer? She can help!
URL:http://www.pittsfield.lib.me.us/event/tech-tuesday-get-help-with-your-digital-problems/
LOCATION:Pittsfield Public Library\, 110 Library St\, Pittsfield\, ME\, 04967\, United States
CATEGORIES:Adult Events,Community Events
END:VEVENT
BEGIN:VEVENT
DTSTART;TZID=UTC:20250108T180000
DTEND;TZID=UTC:20250108T200000
DTSTAMP:20260419T193432
CREATED:20250102T182423Z
LAST-MODIFIED:20250102T192512Z
UID:1518-1736359200-1736366400@www.pittsfield.lib.me.us
SUMMARY:Board Game Night: What We Got For Christmas
DESCRIPTION:Come join us for a night of favorite European-style board games. Tonight we’re featuring the games we got for Christmas or Hanukkah!  I know for sure that Arboretum is making an appearance – come see what else was gifted to members!\n\nThe library sponsors this group every Wednesday evening. It is librarian led and intended for adults 18+. We welcome players new and old – bring a favorite game to teach or come ready to learn!\n\nNow meeting in the Warren Community Room from 6pm to 8pm.
URL:http://www.pittsfield.lib.me.us/event/board-game-night-what-we-got-for-christmas/
LOCATION:Pittsfield Public Library\, 110 Library St\, Pittsfield\, ME\, 04967\, United States
CATEGORIES:Adult Events
END:VEVENT
BEGIN:VEVENT
DTSTART;TZID=UTC:20250109T153000
DTEND;TZID=UTC:20250109T163000
DTSTAMP:20260419T193432
CREATED:20250102T183032Z
LAST-MODIFIED:20250102T183032Z
UID:1522-1736436600-1736440200@www.pittsfield.lib.me.us
SUMMARY:Fun STEM Time Celebrates Balloon Ascension Day!
DESCRIPTION:Fun STEM Time investigates Balloon Ascension Day! How do balloon rides work? What can make balloons rise?
URL:http://www.pittsfield.lib.me.us/event/fun-stem-time-celebrates-balloon-ascension-day/
LOCATION:Pittsfield Public Library\, 110 Library St\, Pittsfield\, ME\, 04967\, United States
CATEGORIES:Children's Events
END:VEVENT
BEGIN:VEVENT
DTSTART;TZID=UTC:20250111T130000
DTEND;TZID=UTC:20250111T140000
DTSTAMP:20260419T193432
CREATED:20250102T183243Z
LAST-MODIFIED:20250102T183243Z
UID:1524-1736600400-1736604000@www.pittsfield.lib.me.us
SUMMARY:LEGO Club!
DESCRIPTION:Come play with the library’s collection of LEGOs!  LEGOs are great fun and great for developing hand-eye coordination\, bolstering imaginative play\, and so much more!  What will you build?  All ages welcome.
URL:http://www.pittsfield.lib.me.us/event/lego-club-3/
LOCATION:Pittsfield Public Library\, 110 Library St\, Pittsfield\, ME\, 04967\, United States
CATEGORIES:Adult Events,Children's Events
END:VEVENT
BEGIN:VEVENT
DTSTART;TZID=UTC:20250113T103000
DTEND;TZID=UTC:20250113T113000
DTSTAMP:20260419T193432
CREATED:20250102T184619Z
LAST-MODIFIED:20250102T184619Z
UID:1525-1736764200-1736767800@www.pittsfield.lib.me.us
SUMMARY:Story Time Celebrates Rubber Ducky Day!
DESCRIPTION:Celebrate Rubber Ducky Day with Story Time! It’s the birthday of Ernie on Sesame Street’s Rubber Duckie! Do you know his special song? “Rubber Duckie\, you’re the one…”
URL:http://www.pittsfield.lib.me.us/event/story-time-celebrates-rubber-ducky-day/
LOCATION:Pittsfield Public Library\, 110 Library St\, Pittsfield\, ME\, 04967\, United States
CATEGORIES:Children's Events
END:VEVENT
BEGIN:VEVENT
DTSTART;TZID=UTC:20250115T153000
DTEND;TZID=UTC:20250115T163000
DTSTAMP:20260419T193432
CREATED:20250102T185044Z
LAST-MODIFIED:20250102T185044Z
UID:1527-1736955000-1736958600@www.pittsfield.lib.me.us
SUMMARY:Culture Club Follows the European Wood Mouse Home!
DESCRIPTION:This year\, Culture Club will travel around the globe in search of rare and interesting animals!  Miss Cassidy is starting in Europe\, where the Wood Mouse makes its home.  Learn all about this iconic denizen of the British countryside and the places it lives.  Please note the slightly later starting time of 3:30pm. \n. \n 
URL:http://www.pittsfield.lib.me.us/event/culture-club-follows-the-european-wood-mouse-home/
LOCATION:Pittsfield Public Library\, 110 Library St\, Pittsfield\, ME\, 04967\, United States
CATEGORIES:Children's Events
END:VEVENT
BEGIN:VEVENT
DTSTART;TZID=UTC:20250115T180000
DTEND;TZID=UTC:20250115T200000
DTSTAMP:20260419T193432
CREATED:20250102T182608Z
LAST-MODIFIED:20250102T192540Z
UID:1520-1736964000-1736971200@www.pittsfield.lib.me.us
SUMMARY:Board Game Night: Favorites
DESCRIPTION:Come join us for a night of favorite European-style board games! Tonight we’re playing our favorites\, old and new.\n\nThe library sponsors this group every Wednesday evening. It is librarian led and intended for adults 18+. We welcome players new and old – bring a favorite game to teach or come ready to learn!\n\nNow meeting in the Warren Community Room from 6pm to 8pm.
URL:http://www.pittsfield.lib.me.us/event/board-game-night-favorites/
LOCATION:Pittsfield Public Library\, 110 Library St\, Pittsfield\, ME\, 04967\, United States
CATEGORIES:Adult Events
END:VEVENT
BEGIN:VEVENT
DTSTART;TZID=UTC:20250116T153000
DTEND;TZID=UTC:20250116T163000
DTSTAMP:20260419T193432
CREATED:20250102T185511Z
LAST-MODIFIED:20250102T185511Z
UID:1529-1737041400-1737045000@www.pittsfield.lib.me.us
SUMMARY:Fun STEM Time Has Fun with Giant Bubbles!
DESCRIPTION:Fun STEM Time blows giant bubbles! How do you make the biggest and best bubbles? What is surface tension?
URL:http://www.pittsfield.lib.me.us/event/fun-stem-time-has-fun-with-giant-bubbles/
LOCATION:Pittsfield Public Library\, 110 Library St\, Pittsfield\, ME\, 04967\, United States
CATEGORIES:Children's Events
END:VEVENT
BEGIN:VEVENT
DTSTART;TZID=UTC:20250118T130000
DTEND;TZID=UTC:20250118T140000
DTSTAMP:20260419T193432
CREATED:20250102T185807Z
LAST-MODIFIED:20250102T185807Z
UID:1531-1737205200-1737208800@www.pittsfield.lib.me.us
SUMMARY:Play Crazy 8s with Mr. Wes!
DESCRIPTION:Come join Mr. Wes for a game of Crazy 8s!  All ages welcome.
URL:http://www.pittsfield.lib.me.us/event/play-crazy-8s-with-mr-wes/
LOCATION:Pittsfield Public Library\, 110 Library St\, Pittsfield\, ME\, 04967\, United States
CATEGORIES:Adult Events,Children's Events
END:VEVENT
BEGIN:VEVENT
DTSTART;VALUE=DATE:20250120
DTEND;VALUE=DATE:20250121
DTSTAMP:20260419T193432
CREATED:20250102T190017Z
LAST-MODIFIED:20250102T190051Z
UID:1533-1737331200-1737417599@www.pittsfield.lib.me.us
SUMMARY:Martin Luther King\, Jr. Day - LIBRARY CLOSED
DESCRIPTION:The library will be closed\, Monday\, January 20th in honor of the MLK\, Jr. holiday. \n \n 
URL:http://www.pittsfield.lib.me.us/event/martin-luther-king-jr-day-library-closed/
LOCATION:Pittsfield Public Library\, 110 Library St\, Pittsfield\, ME\, 04967\, United States
CATEGORIES:Adult Events,Children's Events,Community Events
END:VEVENT
END:VCALENDAR