BEGIN:VCALENDAR
VERSION:2.0
PRODID:-//Pittsfield Public Library - ECPv6.15.20//NONSGML v1.0//EN
CALSCALE:GREGORIAN
METHOD:PUBLISH
X-ORIGINAL-URL:http://www.pittsfield.lib.me.us
X-WR-CALDESC:Events for Pittsfield Public Library
REFRESH-INTERVAL;VALUE=DURATION:PT1H
X-Robots-Tag:noindex
X-PUBLISHED-TTL:PT1H
BEGIN:VTIMEZONE
TZID:UTC
BEGIN:STANDARD
TZOFFSETFROM:+0000
TZOFFSETTO:+0000
TZNAME:UTC
DTSTART:20240101T000000
END:STANDARD
END:VTIMEZONE
BEGIN:VEVENT
DTSTART;TZID=UTC:20250104T130000
DTEND;TZID=UTC:20250104T140000
DTSTAMP:20260419T221858
CREATED:20250102T180356Z
LAST-MODIFIED:20250103T155431Z
UID:1513-1735995600-1735999200@www.pittsfield.lib.me.us
SUMMARY:Do a Puzzle with Mr. Wes! - CANCELLED
DESCRIPTION:Mr. Wes unfortunately won’t be able to hold this event\, but come visit with Ms. Cassidy for other fun at the library! \nCome join Mr. Wes for a puzzling time this afternoon!  All ages welcome.
URL:http://www.pittsfield.lib.me.us/event/do-a-puzzle-with-mr-wes/
LOCATION:Pittsfield Public Library\, 110 Library St\, Pittsfield\, ME\, 04967\, United States
CATEGORIES:Adult Events,Children's Events,Community Events
END:VEVENT
BEGIN:VEVENT
DTSTART;TZID=UTC:20250106T103000
DTEND;TZID=UTC:20250106T113000
DTSTAMP:20260419T221858
CREATED:20250102T181110Z
LAST-MODIFIED:20250102T181110Z
UID:1515-1736159400-1736163000@www.pittsfield.lib.me.us
SUMMARY:Story Time Celebrates Cuddle Up Day!
DESCRIPTION:Celebrate Cuddle Up Day with Story Time! Feel free to bring in a stuffie to snuggle with as you enjoy songs\, stories and crafts!
URL:http://www.pittsfield.lib.me.us/event/story-time-celebrates-cuddle-up-day/
LOCATION:Pittsfield Public Library\, 110 Library St\, Pittsfield\, ME\, 04967\, United States
CATEGORIES:Children's Events
END:VEVENT
BEGIN:VEVENT
DTSTART;TZID=UTC:20250107T133000
DTEND;TZID=UTC:20250107T153000
DTSTAMP:20260419T221858
CREATED:20250102T182008Z
LAST-MODIFIED:20250102T182008Z
UID:1517-1736256600-1736263800@www.pittsfield.lib.me.us
SUMMARY:Tech Tuesday!  Get Help with Your Digital Problems
DESCRIPTION:Bring all your tech related questions in to Scarlett\, our National Digital Equity Center Navigator! Have a question about your phone? Something on the internet? Looking for an inexpensive way to purchase a computer? She can help!
URL:http://www.pittsfield.lib.me.us/event/tech-tuesday-get-help-with-your-digital-problems/
LOCATION:Pittsfield Public Library\, 110 Library St\, Pittsfield\, ME\, 04967\, United States
CATEGORIES:Adult Events,Community Events
END:VEVENT
BEGIN:VEVENT
DTSTART;TZID=UTC:20250108T180000
DTEND;TZID=UTC:20250108T200000
DTSTAMP:20260419T221858
CREATED:20250102T182423Z
LAST-MODIFIED:20250102T192512Z
UID:1518-1736359200-1736366400@www.pittsfield.lib.me.us
SUMMARY:Board Game Night: What We Got For Christmas
DESCRIPTION:Come join us for a night of favorite European-style board games. Tonight we’re featuring the games we got for Christmas or Hanukkah!  I know for sure that Arboretum is making an appearance – come see what else was gifted to members!\n\nThe library sponsors this group every Wednesday evening. It is librarian led and intended for adults 18+. We welcome players new and old – bring a favorite game to teach or come ready to learn!\n\nNow meeting in the Warren Community Room from 6pm to 8pm.
URL:http://www.pittsfield.lib.me.us/event/board-game-night-what-we-got-for-christmas/
LOCATION:Pittsfield Public Library\, 110 Library St\, Pittsfield\, ME\, 04967\, United States
CATEGORIES:Adult Events
END:VEVENT
BEGIN:VEVENT
DTSTART;TZID=UTC:20250109T153000
DTEND;TZID=UTC:20250109T163000
DTSTAMP:20260419T221858
CREATED:20250102T183032Z
LAST-MODIFIED:20250102T183032Z
UID:1522-1736436600-1736440200@www.pittsfield.lib.me.us
SUMMARY:Fun STEM Time Celebrates Balloon Ascension Day!
DESCRIPTION:Fun STEM Time investigates Balloon Ascension Day! How do balloon rides work? What can make balloons rise?
URL:http://www.pittsfield.lib.me.us/event/fun-stem-time-celebrates-balloon-ascension-day/
LOCATION:Pittsfield Public Library\, 110 Library St\, Pittsfield\, ME\, 04967\, United States
CATEGORIES:Children's Events
END:VEVENT
BEGIN:VEVENT
DTSTART;TZID=UTC:20250111T130000
DTEND;TZID=UTC:20250111T140000
DTSTAMP:20260419T221858
CREATED:20250102T183243Z
LAST-MODIFIED:20250102T183243Z
UID:1524-1736600400-1736604000@www.pittsfield.lib.me.us
SUMMARY:LEGO Club!
DESCRIPTION:Come play with the library’s collection of LEGOs!  LEGOs are great fun and great for developing hand-eye coordination\, bolstering imaginative play\, and so much more!  What will you build?  All ages welcome.
URL:http://www.pittsfield.lib.me.us/event/lego-club-3/
LOCATION:Pittsfield Public Library\, 110 Library St\, Pittsfield\, ME\, 04967\, United States
CATEGORIES:Adult Events,Children's Events
END:VEVENT
BEGIN:VEVENT
DTSTART;TZID=UTC:20250113T103000
DTEND;TZID=UTC:20250113T113000
DTSTAMP:20260419T221858
CREATED:20250102T184619Z
LAST-MODIFIED:20250102T184619Z
UID:1525-1736764200-1736767800@www.pittsfield.lib.me.us
SUMMARY:Story Time Celebrates Rubber Ducky Day!
DESCRIPTION:Celebrate Rubber Ducky Day with Story Time! It’s the birthday of Ernie on Sesame Street’s Rubber Duckie! Do you know his special song? “Rubber Duckie\, you’re the one…”
URL:http://www.pittsfield.lib.me.us/event/story-time-celebrates-rubber-ducky-day/
LOCATION:Pittsfield Public Library\, 110 Library St\, Pittsfield\, ME\, 04967\, United States
CATEGORIES:Children's Events
END:VEVENT
BEGIN:VEVENT
DTSTART;TZID=UTC:20250115T153000
DTEND;TZID=UTC:20250115T163000
DTSTAMP:20260419T221858
CREATED:20250102T185044Z
LAST-MODIFIED:20250102T185044Z
UID:1527-1736955000-1736958600@www.pittsfield.lib.me.us
SUMMARY:Culture Club Follows the European Wood Mouse Home!
DESCRIPTION:This year\, Culture Club will travel around the globe in search of rare and interesting animals!  Miss Cassidy is starting in Europe\, where the Wood Mouse makes its home.  Learn all about this iconic denizen of the British countryside and the places it lives.  Please note the slightly later starting time of 3:30pm. \n. \n 
URL:http://www.pittsfield.lib.me.us/event/culture-club-follows-the-european-wood-mouse-home/
LOCATION:Pittsfield Public Library\, 110 Library St\, Pittsfield\, ME\, 04967\, United States
CATEGORIES:Children's Events
END:VEVENT
BEGIN:VEVENT
DTSTART;TZID=UTC:20250115T180000
DTEND;TZID=UTC:20250115T200000
DTSTAMP:20260419T221858
CREATED:20250102T182608Z
LAST-MODIFIED:20250102T192540Z
UID:1520-1736964000-1736971200@www.pittsfield.lib.me.us
SUMMARY:Board Game Night: Favorites
DESCRIPTION:Come join us for a night of favorite European-style board games! Tonight we’re playing our favorites\, old and new.\n\nThe library sponsors this group every Wednesday evening. It is librarian led and intended for adults 18+. We welcome players new and old – bring a favorite game to teach or come ready to learn!\n\nNow meeting in the Warren Community Room from 6pm to 8pm.
URL:http://www.pittsfield.lib.me.us/event/board-game-night-favorites/
LOCATION:Pittsfield Public Library\, 110 Library St\, Pittsfield\, ME\, 04967\, United States
CATEGORIES:Adult Events
END:VEVENT
BEGIN:VEVENT
DTSTART;TZID=UTC:20250116T153000
DTEND;TZID=UTC:20250116T163000
DTSTAMP:20260419T221858
CREATED:20250102T185511Z
LAST-MODIFIED:20250102T185511Z
UID:1529-1737041400-1737045000@www.pittsfield.lib.me.us
SUMMARY:Fun STEM Time Has Fun with Giant Bubbles!
DESCRIPTION:Fun STEM Time blows giant bubbles! How do you make the biggest and best bubbles? What is surface tension?
URL:http://www.pittsfield.lib.me.us/event/fun-stem-time-has-fun-with-giant-bubbles/
LOCATION:Pittsfield Public Library\, 110 Library St\, Pittsfield\, ME\, 04967\, United States
CATEGORIES:Children's Events
END:VEVENT
BEGIN:VEVENT
DTSTART;TZID=UTC:20250118T130000
DTEND;TZID=UTC:20250118T140000
DTSTAMP:20260419T221858
CREATED:20250102T185807Z
LAST-MODIFIED:20250102T185807Z
UID:1531-1737205200-1737208800@www.pittsfield.lib.me.us
SUMMARY:Play Crazy 8s with Mr. Wes!
DESCRIPTION:Come join Mr. Wes for a game of Crazy 8s!  All ages welcome.
URL:http://www.pittsfield.lib.me.us/event/play-crazy-8s-with-mr-wes/
LOCATION:Pittsfield Public Library\, 110 Library St\, Pittsfield\, ME\, 04967\, United States
CATEGORIES:Adult Events,Children's Events
END:VEVENT
BEGIN:VEVENT
DTSTART;VALUE=DATE:20250120
DTEND;VALUE=DATE:20250121
DTSTAMP:20260419T221858
CREATED:20250102T190017Z
LAST-MODIFIED:20250102T190051Z
UID:1533-1737331200-1737417599@www.pittsfield.lib.me.us
SUMMARY:Martin Luther King\, Jr. Day - LIBRARY CLOSED
DESCRIPTION:The library will be closed\, Monday\, January 20th in honor of the MLK\, Jr. holiday. \n \n 
URL:http://www.pittsfield.lib.me.us/event/martin-luther-king-jr-day-library-closed/
LOCATION:Pittsfield Public Library\, 110 Library St\, Pittsfield\, ME\, 04967\, United States
CATEGORIES:Adult Events,Children's Events,Community Events
END:VEVENT
BEGIN:VEVENT
DTSTART;TZID=UTC:20250122T110000
DTEND;TZID=UTC:20250122T120000
DTSTAMP:20260419T221858
CREATED:20250102T190423Z
LAST-MODIFIED:20250102T190423Z
UID:1535-1737543600-1737547200@www.pittsfield.lib.me.us
SUMMARY:KVCAP's Miss Jenny Returns!  Come Join Her Playgroup!
DESCRIPTION:Miss Jenny brings her great combination of age appropriate sensory play\, movement\, and crafts to the library on the fourth Wednesday of each month.  This group is designed for ages birth to five\, but everyone is welcome.
URL:http://www.pittsfield.lib.me.us/event/kvcaps-miss-jenny-returns-come-join-her-playgroup/
LOCATION:Pittsfield Public Library\, 110 Library St\, Pittsfield\, ME\, 04967\, United States
CATEGORIES:Children's Events
END:VEVENT
BEGIN:VEVENT
DTSTART;TZID=UTC:20250122T180000
DTEND;TZID=UTC:20250122T200000
DTSTAMP:20260419T221858
CREATED:20250102T182735Z
LAST-MODIFIED:20250102T192606Z
UID:1521-1737568800-1737576000@www.pittsfield.lib.me.us
SUMMARY:Board Game Night: Favorites
DESCRIPTION:Come join us for a night of favorite European-style board games! Tonight we’re playing our favorites\, old and new.\n\nThe library sponsors this group every Wednesday evening. It is librarian led and intended for adults 18+. We welcome players new and old – bring a favorite game to teach or come ready to learn!\n\nNow meeting in the Warren Community Room from 6pm to 8pm.
URL:http://www.pittsfield.lib.me.us/event/board-game-night-favorites-2/
LOCATION:Pittsfield Public Library\, 110 Library St\, Pittsfield\, ME\, 04967\, United States
CATEGORIES:Adult Events
END:VEVENT
BEGIN:VEVENT
DTSTART;TZID=UTC:20250123T153000
DTEND;TZID=UTC:20250123T163000
DTSTAMP:20260419T221858
CREATED:20250102T191027Z
LAST-MODIFIED:20250102T191027Z
UID:1536-1737646200-1737649800@www.pittsfield.lib.me.us
SUMMARY:Fun STEM Time Talks About Security!
DESCRIPTION:Fun STEM Time thinks about security and making simple alarms.  How can you tell if someone is in your room again?
URL:http://www.pittsfield.lib.me.us/event/fun-stem-time-talks-about-security/
LOCATION:Pittsfield Public Library\, 110 Library St\, Pittsfield\, ME\, 04967\, United States
CATEGORIES:Children's Events
END:VEVENT
BEGIN:VEVENT
DTSTART;TZID=UTC:20250125T130000
DTEND;TZID=UTC:20250125T140000
DTSTAMP:20260419T221858
CREATED:20250102T191203Z
LAST-MODIFIED:20250102T191203Z
UID:1539-1737810000-1737813600@www.pittsfield.lib.me.us
SUMMARY:LEGO Club!
DESCRIPTION:It’s time for LEGO Club again! What can you build? LEGOs build hand-eye coordination and imagination powers –please join us! All ages welcome.
URL:http://www.pittsfield.lib.me.us/event/lego-club-4/
LOCATION:Pittsfield Public Library\, 110 Library St\, Pittsfield\, ME\, 04967\, United States
CATEGORIES:Adult Events,Children's Events
END:VEVENT
BEGIN:VEVENT
DTSTART;TZID=UTC:20250127T103000
DTEND;TZID=UTC:20250127T113000
DTSTAMP:20260419T221858
CREATED:20250102T191448Z
LAST-MODIFIED:20250102T191448Z
UID:1540-1737973800-1737977400@www.pittsfield.lib.me.us
SUMMARY:Story Time Talks About Kindness
DESCRIPTION:Story Time talks about kindness. What are some ways to be kind to those around us? Stories and crafts as always.
URL:http://www.pittsfield.lib.me.us/event/story-time-talks-about-kindness/
LOCATION:Pittsfield Public Library\, 110 Library St\, Pittsfield\, ME\, 04967\, United States
CATEGORIES:Children's Events
END:VEVENT
BEGIN:VEVENT
DTSTART;TZID=UTC:20250129T180000
DTEND;TZID=UTC:20250129T200000
DTSTAMP:20260419T221858
CREATED:20250102T192425Z
LAST-MODIFIED:20250102T192425Z
UID:1542-1738173600-1738180800@www.pittsfield.lib.me.us
SUMMARY:Board Game Night: Food Fight!
DESCRIPTION:Come join us for a night of favorite European-style board games! Tonight we’re featuring games centered on food – think Sushi Go Party\, Go Nuts for Donuts…what else can you bring in?\n\nThe library sponsors this group every Wednesday evening. It is librarian led and intended for adults 18+. We welcome players new and old – bring a favorite game to teach or come ready to learn!\n\nNow meeting in the Warren Community Room from 6pm to 8pm.
URL:http://www.pittsfield.lib.me.us/event/board-game-night-food-fight/
LOCATION:Pittsfield Public Library\, 110 Library St\, Pittsfield\, ME\, 04967\, United States
CATEGORIES:Adult Events
END:VEVENT
BEGIN:VEVENT
DTSTART;TZID=UTC:20250130T153000
DTEND;TZID=UTC:20250130T163000
DTSTAMP:20260419T221858
CREATED:20250102T192829Z
LAST-MODIFIED:20250102T192829Z
UID:1544-1738251000-1738254600@www.pittsfield.lib.me.us
SUMMARY:Fun STEM Time Has Fun with Ping-pong Balls!
DESCRIPTION:Fun STEM Time has fun with ping pong balls! What experiments can you imagine?
URL:http://www.pittsfield.lib.me.us/event/fun-stem-time-has-fun-with-ping-pong-balls/
LOCATION:Pittsfield Public Library\, 110 Library St\, Pittsfield\, ME\, 04967\, United States
CATEGORIES:Children's Events
END:VEVENT
BEGIN:VEVENT
DTSTART;TZID=UTC:20250201T130000
DTEND;TZID=UTC:20250201T140000
DTSTAMP:20260419T221858
CREATED:20250127T203644Z
LAST-MODIFIED:20250127T203644Z
UID:1548-1738414800-1738418400@www.pittsfield.lib.me.us
SUMMARY:Learn a Magic Trick with Mr. Wes!
DESCRIPTION:Come learn a fun magic trick from Mr. Wes – it’s guaranteed to amaze anyone you show! All ages welcome.
URL:http://www.pittsfield.lib.me.us/event/learn-a-magic-trick-with-mr-wes-2/
LOCATION:Pittsfield Public Library\, 110 Library St\, Pittsfield\, ME\, 04967\, United States
CATEGORIES:Adult Events,Children's Events
END:VEVENT
BEGIN:VEVENT
DTSTART;TZID=UTC:20250203T103000
DTEND;TZID=UTC:20250203T113000
DTSTAMP:20260419T221858
CREATED:20250127T204108Z
LAST-MODIFIED:20250127T204108Z
UID:1549-1738578600-1738582200@www.pittsfield.lib.me.us
SUMMARY:Story Time Celebrates Groundhog Day!
DESCRIPTION:Do you think the groundhog can predict spring? Maybe in Maine our forecaster should be a snowshoe hare! Come discuss Punxatawney Phil’s prognostications.
URL:http://www.pittsfield.lib.me.us/event/story-time-celebrates-groundhog-day/
LOCATION:Pittsfield Public Library\, 110 Library St\, Pittsfield\, ME\, 04967\, United States
CATEGORIES:Children's Events
END:VEVENT
BEGIN:VEVENT
DTSTART;TZID=UTC:20250204T133000
DTEND;TZID=UTC:20250204T153000
DTSTAMP:20260419T221858
CREATED:20250131T153852Z
LAST-MODIFIED:20250131T153852Z
UID:1580-1738675800-1738683000@www.pittsfield.lib.me.us
SUMMARY:Tech Tuesday with the NDEC Digital Navigator
DESCRIPTION:Bring your technology woes to the library and get help from Scarlett\, the NDEC Digital Navigator! She can help you with your phone\, tablet or laptop\, answer questions about the internet\, or get you started on a computer program that has you stumped. Scarlett is here on the first Tuesday of every month.
URL:http://www.pittsfield.lib.me.us/event/tech-tuesday-with-the-ndec-digital-navigator/
LOCATION:Pittsfield Public Library\, 110 Library St\, Pittsfield\, ME\, 04967\, United States
CATEGORIES:Adult Events,Community Events
END:VEVENT
BEGIN:VEVENT
DTSTART;TZID=UTC:20250205T153000
DTEND;TZID=UTC:20250205T163000
DTSTAMP:20260419T221858
CREATED:20250203T204901Z
LAST-MODIFIED:20250203T204901Z
UID:1583-1738769400-1738773000@www.pittsfield.lib.me.us
SUMMARY:Make a Groundhog Puppet at Miss Cassidy's Craft Corner!
DESCRIPTION:Who needs Punxatawney Phil when you can make this adorable little groundhog puppet to predict the spring weather yourself?  All ages welcome to join Miss Cassidy in this fun activity.
URL:http://www.pittsfield.lib.me.us/event/make-a-groundhog-puppet-at-miss-cassidys-craft-corner/
LOCATION:Pittsfield Public Library\, 110 Library St\, Pittsfield\, ME\, 04967\, United States
CATEGORIES:Children's Events
END:VEVENT
BEGIN:VEVENT
DTSTART;TZID=UTC:20250205T180000
DTEND;TZID=UTC:20250205T200000
DTSTAMP:20260419T221858
CREATED:20250127T204337Z
LAST-MODIFIED:20250127T204337Z
UID:1551-1738778400-1738785600@www.pittsfield.lib.me.us
SUMMARY:Adult Contemporary Board Game Night (18+)
DESCRIPTION:Come join us for a night of favorite European-style board games! Tonight we’re featuring games that involve deck building – and that’s a pretty wide range! Bring a favorite or come prepared to learn a new one!\n\nThe library sponsors this group every Wednesday evening. It is librarian led and intended for adults 18+. We welcome players new and old – bring a favorite game to teach or come ready to learn!\n\nNow meeting in the Warren Community Room from 6pm to 8pm.
URL:http://www.pittsfield.lib.me.us/event/adult-contemporary-board-game-night-18-21/
LOCATION:Pittsfield Public Library\, 110 Library St\, Pittsfield\, ME\, 04967\, United States
CATEGORIES:Adult Events
END:VEVENT
BEGIN:VEVENT
DTSTART;TZID=UTC:20250206T153000
DTEND;TZID=UTC:20250206T163000
DTSTAMP:20260419T221858
CREATED:20250127T204738Z
LAST-MODIFIED:20250127T204738Z
UID:1553-1738855800-1738859400@www.pittsfield.lib.me.us
SUMMARY:Fun STEM Time Steps Up to Teamwork Challenges!
DESCRIPTION:Come join Mr. Wes in tackling some problems as a team!
URL:http://www.pittsfield.lib.me.us/event/fun-stem-time-steps-up-to-teamwork-challenges/
LOCATION:Pittsfield Public Library\, 110 Library St\, Pittsfield\, ME\, 04967\, United States
CATEGORIES:Children's Events
END:VEVENT
BEGIN:VEVENT
DTSTART;TZID=UTC:20250208T130000
DTEND;TZID=UTC:20250208T140000
DTSTAMP:20260419T221858
CREATED:20250127T204924Z
LAST-MODIFIED:20250127T204924Z
UID:1555-1739019600-1739023200@www.pittsfield.lib.me.us
SUMMARY:Learn to Draw Steamboat Willie with Mr. Wes!
DESCRIPTION:Steamboat Willie passed into the public domain last year!  Learn how to draw him and his more famous cousin with Mr. Wes.  All ages welcome.
URL:http://www.pittsfield.lib.me.us/event/learn-to-draw-steamboat-willie-with-mr-wes/
LOCATION:Pittsfield Public Library\, 110 Library St\, Pittsfield\, ME\, 04967\, United States
CATEGORIES:Adult Events,Children's Events
END:VEVENT
BEGIN:VEVENT
DTSTART;TZID=UTC:20250210T103000
DTEND;TZID=UTC:20250210T113000
DTSTAMP:20260419T221858
CREATED:20250127T205251Z
LAST-MODIFIED:20250127T205251Z
UID:1557-1739183400-1739187000@www.pittsfield.lib.me.us
SUMMARY:Story Time Celebrates National Umbrella Day!
DESCRIPTION:Come celebrate umbrellas with stories\, games and crafts!
URL:http://www.pittsfield.lib.me.us/event/story-time-celebrates-national-umbrella-day/
LOCATION:Pittsfield Public Library\, 110 Library St\, Pittsfield\, ME\, 04967\, United States
CATEGORIES:Children's Events
END:VEVENT
BEGIN:VEVENT
DTSTART;TZID=UTC:20250212T180000
DTEND;TZID=UTC:20250212T210000
DTSTAMP:20260419T221858
CREATED:20250130T202847Z
LAST-MODIFIED:20250212T163845Z
UID:1577-1739383200-1739394000@www.pittsfield.lib.me.us
SUMMARY:Adult Contemporary Board Game Night (18+) - CANCELLED
DESCRIPTION:TONIGHT’S GAME NIGHT IS CANCELLED – HOPE TO SEE FOLKS NEXT WEEK!\n\nCome join us for a night of favorite European-style board games! Tonight we’re featuring games we really enjoy. Bring a favorite or come prepared to learn a new one!\n\nThe library sponsors this group every Wednesday evening. It is librarian led and intended for adults 18+. We welcome players new and old – bring a favorite game to teach or come ready to learn!\n\nNow meeting in the Warren Community Room from 6pm to 8pm
URL:http://www.pittsfield.lib.me.us/event/adult-contemporary-board-game-night-18-23/
LOCATION:Pittsfield Public Library\, 110 Library St\, Pittsfield\, ME\, 04967\, United States
CATEGORIES:Adult Events
END:VEVENT
BEGIN:VEVENT
DTSTART;TZID=UTC:20250213T153000
DTEND;TZID=UTC:20250213T163000
DTSTAMP:20260419T221858
CREATED:20250127T211017Z
LAST-MODIFIED:20250127T211017Z
UID:1559-1739460600-1739464200@www.pittsfield.lib.me.us
SUMMARY:Fun STEM Time Gets Ready for Valentine's Day!
DESCRIPTION:Come join Mr. Wes in getting ready for Valentine’s Day by making cards and more!
URL:http://www.pittsfield.lib.me.us/event/fun-stem-time-gets-ready-for-valentines-day/
LOCATION:Pittsfield Public Library\, 110 Library St\, Pittsfield\, ME\, 04967\, United States
CATEGORIES:Children's Events
END:VEVENT
BEGIN:VEVENT
DTSTART;TZID=UTC:20250217T103000
DTEND;TZID=UTC:20250217T113000
DTSTAMP:20260419T221858
CREATED:20250127T211156Z
LAST-MODIFIED:20250127T211156Z
UID:1561-1739788200-1739791800@www.pittsfield.lib.me.us
SUMMARY:Story Time Celebrates Presidents' Day
DESCRIPTION:Come learn all about some past presidents with Mr. Wes!  Can you imagine Abe Lincoln as a boy?
URL:http://www.pittsfield.lib.me.us/event/story-time-celebrates-presidents-day-2/
LOCATION:Pittsfield Public Library\, 110 Library St\, Pittsfield\, ME\, 04967\, United States
CATEGORIES:Children's Events
END:VEVENT
END:VCALENDAR