BEGIN:VCALENDAR
VERSION:2.0
PRODID:-//Pittsfield Public Library - ECPv6.15.20//NONSGML v1.0//EN
CALSCALE:GREGORIAN
METHOD:PUBLISH
X-WR-CALNAME:Pittsfield Public Library
X-ORIGINAL-URL:http://www.pittsfield.lib.me.us
X-WR-CALDESC:Events for Pittsfield Public Library
REFRESH-INTERVAL;VALUE=DURATION:PT1H
X-Robots-Tag:noindex
X-PUBLISHED-TTL:PT1H
BEGIN:VTIMEZONE
TZID:UTC
BEGIN:STANDARD
TZOFFSETFROM:+0000
TZOFFSETTO:+0000
TZNAME:UTC
DTSTART:20190101T000000
END:STANDARD
END:VTIMEZONE
BEGIN:VEVENT
DTSTART;TZID=UTC:20201118T180000
DTEND;TZID=UTC:20201118T190000
DTSTAMP:20260423T072131
CREATED:20201029T214505Z
LAST-MODIFIED:20201029T214505Z
UID:371-1605722400-1605726000@www.pittsfield.lib.me.us
SUMMARY:African American Soldiers in World War II
DESCRIPTION:As part of the Persis Smith Community Read’s discussion of “Infinite Hope: A Black Artist’s Journey from WWII to Peace” by Ashley Bryan\, Dr. Leroy Rowe from the University of Southern Maine\, will be discussing African Americans during WWII and the segregated army.
URL:http://www.pittsfield.lib.me.us/event/african-american-soldiers-in-world-war-ii/
CATEGORIES:Community Events
END:VEVENT
END:VCALENDAR