BEGIN:VCALENDAR
VERSION:2.0
PRODID:-//Pittsfield Public Library - ECPv6.15.20//NONSGML v1.0//EN
CALSCALE:GREGORIAN
METHOD:PUBLISH
X-ORIGINAL-URL:http://www.pittsfield.lib.me.us
X-WR-CALDESC:Events for Pittsfield Public Library
REFRESH-INTERVAL;VALUE=DURATION:PT1H
X-Robots-Tag:noindex
X-PUBLISHED-TTL:PT1H
BEGIN:VTIMEZONE
TZID:UTC
BEGIN:STANDARD
TZOFFSETFROM:+0000
TZOFFSETTO:+0000
TZNAME:UTC
DTSTART:20200101T000000
END:STANDARD
END:VTIMEZONE
BEGIN:VEVENT
DTSTART;TZID=UTC:20210816T130000
DTEND;TZID=UTC:20210816T150000
DTSTAMP:20260419T225807
CREATED:20210810T164624Z
LAST-MODIFIED:20210810T164624Z
UID:550-1629118800-1629126000@www.pittsfield.lib.me.us
SUMMARY:Be Your Own Bike Mechanic!
DESCRIPTION:An educational hands-on session for teens and adults on bicycle maintenance. Erik DaSilva\, Safety Education Manager for the Bicycle Coalition of Maine\, will bring all tools and equipment necessary for people to use (and fix up their bikes as long as they’re not “totally trashed.”\n\nPlease bring your bike! Six people (or 6 pairs\, i.e. parent/child or couple) will be accommodated. REGISTRATION IS REQUIRED. Please call the library at 487-5880 to grab your spot.
URL:http://www.pittsfield.lib.me.us/event/be-your-own-bike-mechanic/
END:VEVENT
END:VCALENDAR