BEGIN:VCALENDAR
VERSION:2.0
PRODID:-//Pittsfield Public Library - ECPv6.15.20//NONSGML v1.0//EN
CALSCALE:GREGORIAN
METHOD:PUBLISH
X-WR-CALNAME:Pittsfield Public Library
X-ORIGINAL-URL:http://www.pittsfield.lib.me.us
X-WR-CALDESC:Events for Pittsfield Public Library
REFRESH-INTERVAL;VALUE=DURATION:PT1H
X-Robots-Tag:noindex
X-PUBLISHED-TTL:PT1H
BEGIN:VTIMEZONE
TZID:UTC
BEGIN:STANDARD
TZOFFSETFROM:+0000
TZOFFSETTO:+0000
TZNAME:UTC
DTSTART:20190101T000000
END:STANDARD
END:VTIMEZONE
BEGIN:VEVENT
DTSTART;TZID=UTC:20201119T190000
DTEND;TZID=UTC:20201119T200000
DTSTAMP:20260419T123616
CREATED:20201110T205504Z
LAST-MODIFIED:20201110T205504Z
UID:377-1605812400-1605816000@www.pittsfield.lib.me.us
SUMMARY:Involuntary Americans: Scottish Prisoners in early Colonial Maine
DESCRIPTION:Not all of Maine’s earliest Europeans came voluntarily.\nCarol Gardner will deliver a talk (via Zoom) entitled “Involuntary Americans: Scottish Prisoners in Early Colonial Maine” discussing the more than 400 prisoners of war who were brought here to New England against their wills in 1650-51.\nDr. Gardner is the author a recently published narrative history\, “The Involuntary American: A Scottish Prisoner’s Journey to the New World.” \nClick here for the program: https://networkmaine.zoom.us/j/86578764603
URL:http://www.pittsfield.lib.me.us/event/involuntary-americans-scottish-prisoners-in-early-colonial-maine/
CATEGORIES:Community Events
END:VEVENT
END:VCALENDAR