BEGIN:VCALENDAR
VERSION:2.0
PRODID:-//Pittsfield Public Library - ECPv6.15.20//NONSGML v1.0//EN
CALSCALE:GREGORIAN
METHOD:PUBLISH
X-WR-CALNAME:Pittsfield Public Library
X-ORIGINAL-URL:http://www.pittsfield.lib.me.us
X-WR-CALDESC:Events for Pittsfield Public Library
REFRESH-INTERVAL;VALUE=DURATION:PT1H
X-Robots-Tag:noindex
X-PUBLISHED-TTL:PT1H
BEGIN:VTIMEZONE
TZID:UTC
BEGIN:STANDARD
TZOFFSETFROM:+0000
TZOFFSETTO:+0000
TZNAME:UTC
DTSTART:20190101T000000
END:STANDARD
END:VTIMEZONE
BEGIN:VEVENT
DTSTART;TZID=UTC:20200321T100000
DTEND;TZID=UTC:20200321T120000
DTSTAMP:20260422T153322
CREATED:20200219T161311Z
LAST-MODIFIED:20200219T161311Z
UID:276-1584784800-1584792000@www.pittsfield.lib.me.us
SUMMARY:Double the Fun Book Celebration!
DESCRIPTION:Join us for a morning of fun as Maine author Lynn Plourde reads from her new books followed by Russ Cox and Mark Ricketts doing a drawing demo. And there might be cake!\nBooks will also be available for sale and autographing.
URL:http://www.pittsfield.lib.me.us/event/double-the-fun-book-celebration/
CATEGORIES:Adult Events,Children's Events,Community Events
END:VEVENT
END:VCALENDAR