BEGIN:VCALENDAR
VERSION:2.0
PRODID:-//Pittsfield Public Library - ECPv6.15.20//NONSGML v1.0//EN
CALSCALE:GREGORIAN
METHOD:PUBLISH
X-WR-CALNAME:Pittsfield Public Library
X-ORIGINAL-URL:http://www.pittsfield.lib.me.us
X-WR-CALDESC:Events for Pittsfield Public Library
REFRESH-INTERVAL;VALUE=DURATION:PT1H
X-Robots-Tag:noindex
X-PUBLISHED-TTL:PT1H
BEGIN:VTIMEZONE
TZID:UTC
BEGIN:STANDARD
TZOFFSETFROM:+0000
TZOFFSETTO:+0000
TZNAME:UTC
DTSTART:20210101T000000
END:STANDARD
END:VTIMEZONE
BEGIN:VEVENT
DTSTART;TZID=UTC:20220919T120000
DTEND;TZID=UTC:20220919T140000
DTSTAMP:20260422T122048
CREATED:20220907T194610Z
LAST-MODIFIED:20220907T194610Z
UID:720-1663588800-1663596000@www.pittsfield.lib.me.us
SUMMARY:Career Center at the Library
DESCRIPTION:The Maine Career Center is on the move! Michelle Pelletier from the Career Center will be at the library to assist you with job searching\, creating resumes\, interviewing skills\, training and education assistance\, as well as veterans’ services and job search assistance.\nPlease call Michelle at 707-2559 or the library at 487-5880\, or email michelle.pelletier@maine.gov for more information or to sign up for assistance.
URL:http://www.pittsfield.lib.me.us/event/career-center-at-the-library/
CATEGORIES:Adult Events,Community Events
END:VEVENT
END:VCALENDAR