BEGIN:VCALENDAR
VERSION:2.0
PRODID:-//Pittsfield Public Library - ECPv6.15.20//NONSGML v1.0//EN
CALSCALE:GREGORIAN
METHOD:PUBLISH
X-WR-CALNAME:Pittsfield Public Library
X-ORIGINAL-URL:http://www.pittsfield.lib.me.us
X-WR-CALDESC:Events for Pittsfield Public Library
REFRESH-INTERVAL;VALUE=DURATION:PT1H
X-Robots-Tag:noindex
X-PUBLISHED-TTL:PT1H
BEGIN:VTIMEZONE
TZID:UTC
BEGIN:STANDARD
TZOFFSETFROM:+0000
TZOFFSETTO:+0000
TZNAME:UTC
DTSTART:20210101T000000
END:STANDARD
END:VTIMEZONE
BEGIN:VEVENT
DTSTART;TZID=UTC:20221109T100000
DTEND;TZID=UTC:20221109T130000
DTSTAMP:20260419T172419
CREATED:20221104T213916Z
LAST-MODIFIED:20221104T213916Z
UID:751-1667988000-1667998800@www.pittsfield.lib.me.us
SUMMARY:Job Training & Funding Workshop
DESCRIPTION:Ready to reinvent yourself? Come to this workshop at the Pittsfield Public Library to learn about the many new funding and training opportunities for Mainers. Karen from the Career Center will be here to guide you through the process of signing up for these employment opportunities. Laptops will be available to use at the workshop on Wednesday\, November 9th from 10am-1pm.\n\nFor more information\, contact Karen at 474-4915.
URL:http://www.pittsfield.lib.me.us/event/job-training-funding-workshop-2/
END:VEVENT
END:VCALENDAR