BEGIN:VCALENDAR
VERSION:2.0
PRODID:-//Pittsfield Public Library - ECPv6.15.20//NONSGML v1.0//EN
CALSCALE:GREGORIAN
METHOD:PUBLISH
X-WR-CALNAME:Pittsfield Public Library
X-ORIGINAL-URL:http://www.pittsfield.lib.me.us
X-WR-CALDESC:Events for Pittsfield Public Library
REFRESH-INTERVAL;VALUE=DURATION:PT1H
X-Robots-Tag:noindex
X-PUBLISHED-TTL:PT1H
BEGIN:VTIMEZONE
TZID:UTC
BEGIN:STANDARD
TZOFFSETFROM:+0000
TZOFFSETTO:+0000
TZNAME:UTC
DTSTART:20200101T000000
END:STANDARD
END:VTIMEZONE
BEGIN:VEVENT
DTSTART;TZID=UTC:20210408T150000
DTEND;TZID=UTC:20210408T153000
DTSTAMP:20260419T185959
CREATED:20210330T155621Z
LAST-MODIFIED:20210330T155621Z
UID:475-1617894000-1617895800@www.pittsfield.lib.me.us
SUMMARY:Fun STEM Time with Mr. Wes
DESCRIPTION:Each Thursday afternoon\, Mr. Wes will be with you via Facebook Live to show you a science experiment\, share stories\, teach you magic tricks or create craft projects.
URL:http://www.pittsfield.lib.me.us/event/fun-stem-time-with-mr-wes-7/
LOCATION:ME
CATEGORIES:Children's Events
END:VEVENT
BEGIN:VEVENT
DTSTART;TZID=UTC:20210415T150000
DTEND;TZID=UTC:20210415T153000
DTSTAMP:20260419T185959
CREATED:20210330T155714Z
LAST-MODIFIED:20210330T155714Z
UID:476-1618498800-1618500600@www.pittsfield.lib.me.us
SUMMARY:Fun STEM Time with Mr. Wes
DESCRIPTION:Each Thursday afternoon\, Mr. Wes will be with you via Facebook Live to show you a science experiment\, share stories\, teach you magic tricks or create craft projects.
URL:http://www.pittsfield.lib.me.us/event/fun-stem-time-with-mr-wes-8/
LOCATION:ME
CATEGORIES:Children's Events
END:VEVENT
BEGIN:VEVENT
DTSTART;TZID=UTC:20210422T150000
DTEND;TZID=UTC:20210422T153000
DTSTAMP:20260419T185959
CREATED:20210330T155804Z
LAST-MODIFIED:20210330T155804Z
UID:477-1619103600-1619105400@www.pittsfield.lib.me.us
SUMMARY:Fun STEM Time with Mr. Wes
DESCRIPTION:Each Thursday afternoon\, Mr. Wes will be with you via Facebook Live to show you a science experiment\, share stories\, teach you magic tricks or create craft projects.
URL:http://www.pittsfield.lib.me.us/event/fun-stem-time-with-mr-wes-9/
LOCATION:ME
CATEGORIES:Children's Events
END:VEVENT
BEGIN:VEVENT
DTSTART;TZID=UTC:20210429T150000
DTEND;TZID=UTC:20210429T153000
DTSTAMP:20260419T185959
CREATED:20210330T155857Z
LAST-MODIFIED:20210330T155857Z
UID:478-1619708400-1619710200@www.pittsfield.lib.me.us
SUMMARY:Fun STEM Time with Mr. Wes
DESCRIPTION:Each Thursday afternoon\, Mr. Wes will be with you via Facebook Live to show you a science experiment\, share stories\, teach you magic tricks or create craft projects.
URL:http://www.pittsfield.lib.me.us/event/fun-stem-time-with-mr-wes-10/
LOCATION:ME
CATEGORIES:Children's Events
END:VEVENT
END:VCALENDAR