BEGIN:VCALENDAR
VERSION:2.0
PRODID:-//Pittsfield Public Library - ECPv6.15.20//NONSGML v1.0//EN
CALSCALE:GREGORIAN
METHOD:PUBLISH
X-ORIGINAL-URL:http://www.pittsfield.lib.me.us
X-WR-CALDESC:Events for Pittsfield Public Library
REFRESH-INTERVAL;VALUE=DURATION:PT1H
X-Robots-Tag:noindex
X-PUBLISHED-TTL:PT1H
BEGIN:VTIMEZONE
TZID:UTC
BEGIN:STANDARD
TZOFFSETFROM:+0000
TZOFFSETTO:+0000
TZNAME:UTC
DTSTART:20200101T000000
END:STANDARD
END:VTIMEZONE
BEGIN:VEVENT
DTSTART;TZID=UTC:20210603T150000
DTEND;TZID=UTC:20210603T153000
DTSTAMP:20260419T173955
CREATED:20210528T160306Z
LAST-MODIFIED:20210528T160306Z
UID:511-1622732400-1622734200@www.pittsfield.lib.me.us
SUMMARY:Fun STEM Time with Mr. Wes
DESCRIPTION:Each Thursday afternoon\, Mr. Wes will be with you via Facebook Live to show you a science experiment\, share stories\, teach you magic tricks or create craft projects.
URL:http://www.pittsfield.lib.me.us/event/fun-stem-time-with-mr-wes-15/
LOCATION:ME
END:VEVENT
END:VCALENDAR