BEGIN:VCALENDAR
VERSION:2.0
PRODID:-//Pittsfield Public Library - ECPv6.15.20//NONSGML v1.0//EN
CALSCALE:GREGORIAN
METHOD:PUBLISH
X-ORIGINAL-URL:http://www.pittsfield.lib.me.us
X-WR-CALDESC:Events for Pittsfield Public Library
REFRESH-INTERVAL;VALUE=DURATION:PT1H
X-Robots-Tag:noindex
X-PUBLISHED-TTL:PT1H
BEGIN:VTIMEZONE
TZID:UTC
BEGIN:STANDARD
TZOFFSETFROM:+0000
TZOFFSETTO:+0000
TZNAME:UTC
DTSTART:20200101T000000
END:STANDARD
END:VTIMEZONE
BEGIN:VEVENT
DTSTART;TZID=UTC:20210621T103000
DTEND;TZID=UTC:20210621T110000
DTSTAMP:20260419T140344
CREATED:20210528T161819Z
LAST-MODIFIED:20210528T161819Z
UID:516-1624271400-1624273200@www.pittsfield.lib.me.us
SUMMARY:Story Time with Mr. Wes!
DESCRIPTION:Mr. Wes will be bringing you story time online through Facebook Live\, and today will be giving you a sneak peek into the summer reading program. Hope you can join us!
URL:http://www.pittsfield.lib.me.us/event/story-time-with-mr-wes-31/
LOCATION:ME
CATEGORIES:Children's Events
END:VEVENT
BEGIN:VEVENT
DTSTART;TZID=UTC:20210624T150000
DTEND;TZID=UTC:20210624T160000
DTSTAMP:20260419T140344
CREATED:20210528T162203Z
LAST-MODIFIED:20210528T162203Z
UID:518-1624546800-1624550400@www.pittsfield.lib.me.us
SUMMARY:SUMMER READING KICK-OFF!
DESCRIPTION:Join us outside the library as Mr. Wes kicks off the summer reading program! You’ll be able to pick up your summer reading bag\, log and a free book.
URL:http://www.pittsfield.lib.me.us/event/summer-reading-kick-off/
LOCATION:ME
CATEGORIES:Children's Events
END:VEVENT
END:VCALENDAR