BEGIN:VCALENDAR
VERSION:2.0
PRODID:-//Pittsfield Public Library - ECPv6.15.20//NONSGML v1.0//EN
CALSCALE:GREGORIAN
METHOD:PUBLISH
X-ORIGINAL-URL:http://www.pittsfield.lib.me.us
X-WR-CALDESC:Events for Pittsfield Public Library
REFRESH-INTERVAL;VALUE=DURATION:PT1H
X-Robots-Tag:noindex
X-PUBLISHED-TTL:PT1H
BEGIN:VTIMEZONE
TZID:UTC
BEGIN:STANDARD
TZOFFSETFROM:+0000
TZOFFSETTO:+0000
TZNAME:UTC
DTSTART:20200101T000000
END:STANDARD
END:VTIMEZONE
BEGIN:VEVENT
DTSTART;TZID=UTC:20210708T150000
DTEND;TZID=UTC:20210708T153000
DTSTAMP:20260419T135843
CREATED:20210630T200532Z
LAST-MODIFIED:20210630T200532Z
UID:540-1625756400-1625758200@www.pittsfield.lib.me.us
SUMMARY:Summer Reading--The Lion King
DESCRIPTION:Did you know that The Lion King book is the mythological “hero’s journey\,” as Simba discovers who he really is? Join us on Facebook Live to find out more.
URL:http://www.pittsfield.lib.me.us/event/summer-reading-the-lion-king/
LOCATION:ME
CATEGORIES:Children's Events
END:VEVENT
END:VCALENDAR