BEGIN:VCALENDAR
VERSION:2.0
PRODID:-//Pittsfield Public Library - ECPv6.15.20//NONSGML v1.0//EN
CALSCALE:GREGORIAN
METHOD:PUBLISH
X-WR-CALNAME:Pittsfield Public Library
X-ORIGINAL-URL:http://www.pittsfield.lib.me.us
X-WR-CALDESC:Events for Pittsfield Public Library
REFRESH-INTERVAL;VALUE=DURATION:PT1H
X-Robots-Tag:noindex
X-PUBLISHED-TTL:PT1H
BEGIN:VTIMEZONE
TZID:UTC
BEGIN:STANDARD
TZOFFSETFROM:+0000
TZOFFSETTO:+0000
TZNAME:UTC
DTSTART:20200101T000000
END:STANDARD
END:VTIMEZONE
BEGIN:VEVENT
DTSTART;TZID=UTC:20210715T153000
DTEND;TZID=UTC:20210715T170000
DTSTAMP:20260419T135751
CREATED:20210630T201915Z
LAST-MODIFIED:20210630T201915Z
UID:541-1626363000-1626368400@www.pittsfield.lib.me.us
SUMMARY:Petting Zoo!
DESCRIPTION:That’s right\, folks\, there will be a petting zoo at the library!! Treats for the animals will be available so you and your family can feed and interact with all the creatures. We’re so looking forward to this event as part of our Tails and Tales summer reading program!
URL:http://www.pittsfield.lib.me.us/event/petting-zoo/
LOCATION:ME
END:VEVENT
END:VCALENDAR