BEGIN:VCALENDAR
VERSION:2.0
PRODID:-//Pittsfield Public Library - ECPv6.15.20//NONSGML v1.0//EN
CALSCALE:GREGORIAN
METHOD:PUBLISH
X-WR-CALNAME:Pittsfield Public Library
X-ORIGINAL-URL:http://www.pittsfield.lib.me.us
X-WR-CALDESC:Events for Pittsfield Public Library
REFRESH-INTERVAL;VALUE=DURATION:PT1H
X-Robots-Tag:noindex
X-PUBLISHED-TTL:PT1H
BEGIN:VTIMEZONE
TZID:UTC
BEGIN:STANDARD
TZOFFSETFROM:+0000
TZOFFSETTO:+0000
TZNAME:UTC
DTSTART:20210101T000000
END:STANDARD
END:VTIMEZONE
BEGIN:VEVENT
DTSTART;TZID=UTC:20220228T103000
DTEND;TZID=UTC:20220228T113000
DTSTAMP:20260422T105709
CREATED:20220124T204927Z
LAST-MODIFIED:20220124T204927Z
UID:635-1646044200-1646047800@www.pittsfield.lib.me.us
SUMMARY:Story Time with Sebasticook Dental
DESCRIPTION:Since today is National Tooth Fairy Day\, Sebasticook Dental will be at the library to teach kids how to brush their teeth. Come and learn how to get the most out of your smile!
URL:http://www.pittsfield.lib.me.us/event/story-time-with-sebasticook-dental/
CATEGORIES:Children's Events
END:VEVENT
END:VCALENDAR